BEGIN:VCALENDAR
VERSION:2.0
PRODID:-//Deeper Life Bible Church, Oak Park - ECPv5.1.2.1//NONSGML v1.0//EN
CALSCALE:GREGORIAN
METHOD:PUBLISH
X-WR-CALNAME:Deeper Life Bible Church, Oak Park
X-ORIGINAL-URL:https://dlbcoakpark.org
X-WR-CALDESC:Events for Deeper Life Bible Church, Oak Park
BEGIN:VTIMEZONE
TZID:UTC
BEGIN:STANDARD
TZOFFSETFROM:+0000
TZOFFSETTO:+0000
TZNAME:UTC
DTSTART:20200101T000000
END:STANDARD
END:VTIMEZONE
BEGIN:VEVENT
DTSTART;TZID=UTC:20200621T100000
DTEND;TZID=UTC:20200621T130000
DTSTAMP:20260423T185213
CREATED:20200620T231959Z
LAST-MODIFIED:20200620T234219Z
UID:4567-1592733600-1592744400@dlbcoakpark.org
SUMMARY:Father's Day 2020
DESCRIPTION:
URL:https://dlbcoakpark.org/event/fathers-day-2020/
LOCATION:Online Conference\, https://zoom.us/j/4254430766
CATEGORIES:Events
ATTACH;FMTTYPE=image/jpeg:https://dlbcoakpark.org/wp-content/uploads/2020/06/Fathers_Event_20.jpg
END:VEVENT
END:VCALENDAR